BEGIN:VCALENDAR
VERSION:2.0
PRODID:-//Students of QOM - ECPv6.15.18//NONSGML v1.0//EN
CALSCALE:GREGORIAN
METHOD:PUBLISH
X-WR-CALNAME:Students of QOM
X-ORIGINAL-URL:https://studentsofqom.org
X-WR-CALDESC:Events for Students of QOM
REFRESH-INTERVAL;VALUE=DURATION:PT1H
X-Robots-Tag:noindex
X-PUBLISHED-TTL:PT1H
BEGIN:VTIMEZONE
TZID:UTC
BEGIN:STANDARD
TZOFFSETFROM:+0000
TZOFFSETTO:+0000
TZNAME:UTC
DTSTART:20240101T000000
END:STANDARD
END:VTIMEZONE
BEGIN:VEVENT
DTSTART;TZID=UTC:20250102T193000
DTEND;TZID=UTC:20250102T213000
DTSTAMP:20260423T181753
CREATED:20250109T082941Z
LAST-MODIFIED:20250109T083132Z
UID:8423-1735846200-1735853400@studentsofqom.org
SUMMARY:Wiladah of Imam Muhammad Baqir (A)
DESCRIPTION:Please enable JavaScriptplay-sharp-fill\n\n    \n    \n    LinkEmbedCopy and paste this HTML code into your webpage to embed.\n\n	\n		50:16Imam Al-Baqir (A): The Splitter Of Knowledge\, A Paragon Of Success | Sayyid Amir Behbahani\n		03:00We Do Not Have Proxy Forces | Imam Khamenei\n		31:10Dua Kumayl | Br. Hasanain\n		01:56Quran Recitation | Br. Abbas Zaidi\n		10:26Introduction | Sayyid Shahryar Naqvi
URL:https://studentsofqom.org/event/2jan2025/
LOCATION:SOQ Cultural Center\, Qom\, Iran\, Islamic Republic of
CATEGORIES:Thursday Night Program
ORGANIZER;CN="Students of Qom (SoQ)":MAILTO:info@studentsofqom.org
END:VEVENT
BEGIN:VEVENT
DTSTART;TZID=UTC:20250109T193000
DTEND;TZID=UTC:20250109T213000
DTSTAMP:20260423T181753
CREATED:20250115T221403Z
LAST-MODIFIED:20260207T165942Z
UID:8431-1736451000-1736458200@studentsofqom.org
SUMMARY:Weekly Program
DESCRIPTION:Please enable JavaScriptplay-sharp-fill\n\n    \n    \n    LinkEmbedCopy and paste this HTML code into your webpage to embed.\n\n	\n		44:44آرمان ظهور هدف مقاومتی یا استقامتی؟ | Ustad Amiri Tayebi (Farsi)\n		02:10Tear Down The Enemy's Propaganda | Imam Khamenei\n		32:01Dua Kumayl | Br. Ali Husayn Mastura\n		06:26Quran Recitation | Br. Muhammad Husayn\n		05:53Introduction | Sayyid Shahryar Naqvi
URL:https://studentsofqom.org/event/9jan2025/
LOCATION:SOQ Cultural Center\, Qom\, Iran\, Islamic Republic of
CATEGORIES:Thursday Night Program
ORGANIZER;CN="Students of Qom (SoQ)":MAILTO:info@studentsofqom.org
END:VEVENT
BEGIN:VEVENT
DTSTART;TZID=UTC:20250116T193000
DTEND;TZID=UTC:20250116T213000
DTSTAMP:20260423T181753
CREATED:20250122T095531Z
LAST-MODIFIED:20250122T095733Z
UID:8440-1737055800-1737063000@studentsofqom.org
SUMMARY:Wiladah of Ameerul Momineen Imam Ali (A)
DESCRIPTION:Please enable JavaScriptplay-sharp-fill\n\n    \n    \n    LinkEmbedCopy and paste this HTML code into your webpage to embed.\n\n	\n		44:54Islamic Social Sciences VS Western Social Sciences | Sayyid Muhammad Hashemi\n		02:28israel Is Defeated | Imam Khamenei\n		34:11Dua Kumayl | Br. Sharfat\n		02:33Quran Recitation | Br. Mohammad Assadi\n		08:02Introduction | Sayyid Shahryar Naqvi
URL:https://studentsofqom.org/event/16jan2025/
LOCATION:SOQ Cultural Center\, Qom\, Iran\, Islamic Republic of
CATEGORIES:Thursday Night Program
ORGANIZER;CN="Students of Qom (SoQ)":MAILTO:info@studentsofqom.org
END:VEVENT
BEGIN:VEVENT
DTSTART;TZID=UTC:20250123T193000
DTEND;TZID=UTC:20250123T213000
DTSTAMP:20260423T181753
CREATED:20250123T213832Z
LAST-MODIFIED:20250128T215221Z
UID:8448-1737660600-1737667800@studentsofqom.org
SUMMARY:Weekly Program
DESCRIPTION:Please enable JavaScriptplay-sharp-fill\n\n    \n    \n    LinkEmbedCopy and paste this HTML code into your webpage to embed.\n\n	\n		52:18Islamic Anthropology VS Western Anthropology | Shaykh Rohullah Rohani\n		02:15America Is The Enemy OF Humanity | Imam Khamenei\n		31:42Dua Kumayl | Dr. Reza Baqeri\n		03:01Quran Recitation | Br. Muhammad Ali\n		07:19Introduction | Sayyid Shahryar Naqvi
URL:https://studentsofqom.org/event/23jan2025/
LOCATION:SOQ Cultural Center\, Qom\, Iran\, Islamic Republic of
CATEGORIES:Thursday Night Program
ORGANIZER;CN="Students of Qom (SoQ)":MAILTO:info@studentsofqom.org
END:VEVENT
BEGIN:VEVENT
DTSTART;TZID=UTC:20250129T193000
DTEND;TZID=UTC:20250129T213000
DTSTAMP:20260423T181753
CREATED:20250129T235959Z
LAST-MODIFIED:20260205T164254Z
UID:8617-1738179000-1738186200@studentsofqom.org
SUMMARY:The Sixth Global Congress Of Imam Reza (A) | Mashhad
DESCRIPTION:Please enable JavaScriptplay-sharp-fill\n\n    \n    \n    LinkEmbedCopy and paste this HTML code into your webpage to embed.\n\n	\n		16:01Criticism Of Secular Human Rights | Sayyid Agha Ali Raza\n		13:46Morality And Respecting Others' Rights | Shaykh Jawad Esmaili\n		14:27Racial Discrimination In Modern Era | Sayyid Shahryar Naqvi\n		15:36Jihad-e-Tabyin And Soft War | Shaykh Ali Qomi
URL:https://studentsofqom.org/event/29jan2025/
LOCATION:The Holy Shrine of Imam Redha (A)\, Mashhad\, Iran\, Islamic Republic of
CATEGORIES:Conferences,Seminars,Thursday Night Program
ORGANIZER;CN="Students of Qom (SoQ)":MAILTO:info@studentsofqom.org
END:VEVENT
BEGIN:VEVENT
DTSTART;TZID=UTC:20250130T193000
DTEND;TZID=UTC:20250130T213000
DTSTAMP:20260423T181753
CREATED:20250208T214612Z
LAST-MODIFIED:20260207T170215Z
UID:8459-1738265400-1738272600@studentsofqom.org
SUMMARY:Weekly Program in Mashhad
DESCRIPTION:Please enable JavaScriptplay-sharp-fill\n\n    \n    \n    LinkEmbedCopy and paste this HTML code into your webpage to embed.\n\n	\n		14:47The Prophethood\, Islamic Revolution\, And The Axis of Resistance | H.I Alireza Imani Moghadam\n		06:06Introduction to the SoQ & its Activities\n		03:15Introduction of the Activities of the Global Congress of Imam Reza (A) | Dr. Zohre Kharazmi\n		28:18Dua Kumayl | Br. Mahdavi Manesh\n		03:58Quran Recitation | Shaykh Ali Husayn Mastura\n		07:55Introduction | Sayyid Shahryar Naqvi
URL:https://studentsofqom.org/event/30jan2025/
LOCATION:The Holy Shrine of Imam Redha (A)\, Mashhad\, Iran\, Islamic Republic of
CATEGORIES:Thursday Night Program
ORGANIZER;CN="Students of Qom (SoQ)":MAILTO:info@studentsofqom.org
END:VEVENT
END:VCALENDAR