BEGIN:VCALENDAR
VERSION:2.0
PRODID:-//Students of QOM - ECPv6.15.18//NONSGML v1.0//EN
CALSCALE:GREGORIAN
METHOD:PUBLISH
X-WR-CALNAME:Students of QOM
X-ORIGINAL-URL:https://studentsofqom.org
X-WR-CALDESC:Events for Students of QOM
REFRESH-INTERVAL;VALUE=DURATION:PT1H
X-Robots-Tag:noindex
X-PUBLISHED-TTL:PT1H
BEGIN:VTIMEZONE
TZID:UTC
BEGIN:STANDARD
TZOFFSETFROM:+0000
TZOFFSETTO:+0000
TZNAME:UTC
DTSTART:20230101T000000
END:STANDARD
END:VTIMEZONE
BEGIN:VEVENT
DTSTART;TZID=UTC:20241205T193000
DTEND;TZID=UTC:20241205T213000
DTSTAMP:20260423T201403
CREATED:20241211T210921Z
LAST-MODIFIED:20241211T211123Z
UID:8290-1733427000-1733434200@studentsofqom.org
SUMMARY:Shahadah Of Sayyida Fatima Zahra (A)
DESCRIPTION:Please enable JavaScriptplay-sharp-fill\n\n    \n    \n    LinkEmbedCopy and paste this HTML code into your webpage to embed.\n\n	\n		54:13Lady Fatimah Zahra (S): A Fountain Of Eternal Goodness | Sayyid Amir Behbahani\n		03:02Is It Possible To Confront America? | Imam Khamenei\n		30:32Dua Kumayl | Br. Sayyid Zaigham Kazmi\n		01:07Quran Recitation | Br. Hamza Ali\n		07:00Introduction | Sayyid Shahryar Naqvi
URL:https://studentsofqom.org/event/5dec2024/
LOCATION:SOQ Cultural Center\, Qom\, Iran\, Islamic Republic of
CATEGORIES:Thursday Night Program
ORGANIZER;CN="Students of Qom (SoQ)":MAILTO:info@studentsofqom.org
END:VEVENT
BEGIN:VEVENT
DTSTART;TZID=UTC:20241212T193000
DTEND;TZID=UTC:20241212T213000
DTSTAMP:20260423T201403
CREATED:20241217T081504Z
LAST-MODIFIED:20241217T081741Z
UID:8302-1734031800-1734039000@studentsofqom.org
SUMMARY:Weekly Program
DESCRIPTION:Please enable JavaScriptplay-sharp-fill\n\n    \n    \n    LinkEmbedCopy and paste this HTML code into your webpage to embed.\n\n	\n		45:19The Axis Of Resitance: From The Dawn Of Islam To The Present | Shaykh Mustafa Araki\n		03:22Syria: An American & israeli Plan & The Islamic Resistance Will Continue To Grow | Imam Khamenei\n		28:34Dua Kumayl | Br. Ammar\n		00:51Quran Recitation | Br. Muhammad Mahdi\n		05:21Introduction | Sayyid Shahryar Naqvi
URL:https://studentsofqom.org/event/12dec2024/
LOCATION:SOQ Cultural Center\, Qom\, Iran\, Islamic Republic of
CATEGORIES:Thursday Night Program
ORGANIZER;CN="Students of Qom (SoQ)":MAILTO:info@studentsofqom.org
END:VEVENT
BEGIN:VEVENT
DTSTART;TZID=UTC:20241219T193000
DTEND;TZID=UTC:20241219T213000
DTSTAMP:20260423T201403
CREATED:20241222T193028Z
LAST-MODIFIED:20241222T193202Z
UID:8311-1734636600-1734643800@studentsofqom.org
SUMMARY:Wiladah Of Sayyida Fatima Zahra (A)
DESCRIPTION:Please enable JavaScriptplay-sharp-fill\n\n    \n    \n    LinkEmbedCopy and paste this HTML code into your webpage to embed.\n\n	\n		01:00:35The Role Of Istiqlaliyyah In the Ummah And In The Resistance | Shaykh Jaffer Ladak\n		04:01Allah's Army For Our Assistance | Imam Khamenei\n		30:21Dua Kumayl | Br. Ali Husayn Mastura\n		02:40Quran Recitation | Br. Shayan\n		04:25Introduction | Sayyid Shahryar Naqvi
URL:https://studentsofqom.org/event/19dec2024/
LOCATION:SOQ Cultural Center\, Qom\, Iran\, Islamic Republic of
CATEGORIES:Thursday Night Program
ORGANIZER;CN="Students of Qom (SoQ)":MAILTO:info@studentsofqom.org
END:VEVENT
BEGIN:VEVENT
DTSTART;TZID=UTC:20241226T180000
DTEND;TZID=UTC:20241226T220000
DTSTAMP:20260423T201403
CREATED:20241212T120750Z
LAST-MODIFIED:20260207T165748Z
UID:8297-1735236000-1735250400@studentsofqom.org
SUMMARY:RESISTANCE STRONGER THAN EVER | The 5th Martyrdom Anniversary of Shaheed Soleimani\, Abu-Mahdi
DESCRIPTION:  \n[vc_row][vc_column width=”1/2″ icons_position=”left”]\n\n\n\n\n\n\n\n\n\n\n\n\n    \n\n\n    \n\n\n            \n\n                \n\n				\n              \n           \n   \n\n\n\n    \n\n\n            \n\n                \n\n				\n              \n           \n   \n\n\n\n    \n\n\n            \n\n                \n\n				\n              \n           \n   \n\n\n\n    \n\n\n            \n\n                \n\n				\n              \n           \n   \n\n\n\n    \n\n\n            \n\n                \n\n				\n              \n           \n   \n\n\n\n    \n\n\n            \n\n                \n\n				\n              \n           \n   \n\n\n\n    \n\n\n            \n\n                \n\n				\n              \n           \n   \n\n\n\n    \n\n\n            \n\n                \n\n				\n              \n           \n   \n\n\n\n    \n\n\n            \n\n                \n\n				\n              \n           \n   \n\n\n\n    \n\n\n            \n\n                \n\n				\n              \n           \n   \n\n\n\n    \n\n\n            \n\n                \n\n				\n              \n           \n   \n\n\n\n    \n\n\n            \n\n                \n\n				\n              \n           \n   \n\n\n\n    \n\n\n            \n\n                \n\n				\n              \n           \n   \n\n\n\n    \n\n\n            \n\n                \n\n				\n              \n           \n   \n\n\n\n    \n\n\n            \n\n                \n\n				\n              \n           \n   \n\n\n\n    \n\n\n            \n\n                \n\n				\n              \n           \n   \n\n\n\n    \n\n\n            \n\n                \n\n				\n              \n           \n   \n\n\n\n    \n\n\n            \n\n                \n\n				\n              \n           \n   \n\n\n\n    \n\n\n            \n\n                \n\n				\n              \n           \n   \n\n\n\n    \n\n\n            \n\n                \n\n				\n              \n           \n   \n\n\n\n    \n\n\n            \n\n                \n\n				\n              \n           \n   \n\n\n\n    \n\n\n            \n\n                \n\n				\n              \n           \n   \n\n\n\n    \n\n\n            \n\n                \n\n				\n              \n           \n   \n\n\n\n    \n\n\n            \n\n                \n\n				\n              \n           \n   \n\n\n\n    \n\n\n            \n\n                \n\n				\n              \n           \n   \n\n\n\n    \n\n\n            \n\n                \n\n				\n              \n           \n   \n\n\n\n    \n\n\n            \n\n                \n\n				\n              \n           \n   \n\n\n\n    \n\n\n            \n\n                \n\n				\n              \n           \n   \n\n\n\n    \n\n\n            \n\n                \n\n				\n              \n           \n   \n\n\n\n    \n\n\n            \n\n                \n\n				\n              \n           \n   \n\n\n\n    \n\n\n            \n\n                \n\n				\n              \n           \n   \n\n\n\n    \n\n\n            \n\n                \n\n				\n              \n           \n   \n\n\n\n    \n\n\n            \n\n                \n\n				\n              \n           \n   \n\n\n\n    \n\n\n            \n\n                \n\n				\n              \n           \n   \n\n\n\n    \n\n\n            \n\n                \n\n				\n              \n           \n   \n\n\n\n    \n\n\n            \n\n                \n\n				\n              \n           \n   \n\n\n\n    \n\n\n            \n\n                \n\n				\n              \n           \n   \n\n\n\n    \n\n\n            \n\n                \n\n				\n              \n           \n   \n\n\n\n    \n\n\n            \n\n                \n\n				\n              \n           \n   \n\n\n\n    \n\n\n            \n\n                \n\n				\n              \n           \n   \n\n\n\n    \n\n\n            \n\n                \n\n				\n              \n           \n   \n\n\n\n    \n\n\n            \n\n                \n\n				\n              \n           \n   \n\n\n\n    \n\n\n            \n\n                \n\n				\n              \n           \n   \n\n\n\n    \n\n\n            \n\n                \n\n				\n              \n           \n   \n\n\n\n    \n\n\n            \n\n                \n\n				\n              \n           \n   \n\n\n\n    \n\n\n            \n\n                \n\n				\n              \n           \n   \n\n\n\n    \n\n\n            \n\n                \n\n				\n              \n           \n   \n\n\n\n    \n\n\n            \n\n                \n\n				\n              \n           \n   \n\n\n\n    \n\n\n            \n\n                \n\n				\n              \n           \n   \n\n\n\n    \n\n\n            \n\n                \n\n				\n              \n           \n   \n\n\n\n    \n\n\n            \n\n                \n\n				\n              \n           \n   \n\n\n\n    \n\n\n            \n\n                \n\n				\n              \n           \n   \n\n\n\n    \n\n\n            \n\n                \n\n				\n              \n           \n   \n\n\n\n    \n\n\n            \n\n                \n\n				\n              \n           \n   \n\n\n\n    \n\n\n            \n\n                \n\n				\n              \n           \n   \n\n\n\n    \n\n\n            \n\n                \n\n				\n              \n           \n   \n\n\n\n    \n\n\n            \n\n                \n\n				\n              \n           \n   \n\n\n\n    \n\n\n            \n\n                \n\n				\n              \n           \n   \n\n\n\n    \n\n\n            \n\n                \n\n				\n              \n           \n   \n\n\n\n    \n\n\n            \n\n                \n\n				\n              \n           \n   \n\n\n\n    \n\n\n            \n\n                \n\n				\n              \n           \n   \n\n\n\n    \n\n\n            \n\n                \n\n				\n              \n           \n   \n\n\n\n    \n\n\n            \n\n                \n\n				\n              \n           \n   \n\n\n\n    \n\n\n            \n\n                \n\n				\n              \n           \n   \n\n\n\n    \n\n\n            \n\n                \n\n				\n              \n           \n   \n\n\n\n    \n\n\n            \n\n                \n\n				\n              \n           \n   \n\n\n\n    \n\n\n            \n\n                \n\n				\n              \n           \n   \n\n\n\n    \n\n\n            \n\n                \n\n				\n              \n           \n   \n\n\n\n    \n\n\n            \n\n                \n\n				\n              \n           \n   \n\n\n\n    \n\n\n            \n\n                \n\n				\n              \n           \n   \n\n\n\n    \n\n\n            \n\n                \n\n				\n              \n           \n   \n\n\n\n    \n\n\n            \n\n                \n\n				\n              \n           \n   \n\n\n\n    \n\n\n            \n\n                \n\n				\n              \n           \n   \n\n\n\n    \n\n\n            \n\n                \n\n				\n              \n           \n   \n\n\n\n    \n\n\n            \n\n                \n\n				\n              \n           \n   \n\n\n\n    \n\n\n            \n\n                \n\n				\n              \n           \n   \n\n\n\n    \n\n\n            \n\n                \n\n				\n              \n           \n   \n\n\n\n    \n\n\n            \n\n                \n\n				\n              \n           \n   \n\n\n\n    \n\n\n            \n\n                \n\n				\n              \n           \n   \n\n\n\n    \n\n\n            \n\n                \n\n				\n              \n           \n   \n\n\n\n    \n\n\n            \n\n                \n\n				\n              \n           \n   \n\n\n\n    \n\n\n            \n\n                \n\n				\n              \n           \n   \n\n\n\n    \n\n\n            \n\n                \n\n				\n              \n           \n   \n\n\n\n    \n\n\n            \n\n                \n\n				\n              \n           \n   \n\n\n\n    \n\n\n            \n\n                \n\n				\n              \n           \n   \n\n\n\n    \n\n\n            \n\n                \n\n				\n              \n           \n   \n\n\n\n    \n\n\n            \n\n                \n\n				\n              \n           \n   \n\n\n\n    \n\n\n            \n\n                \n\n				\n              \n           \n   \n\n\n\n    \n\n\n            \n\n                \n\n				\n              \n           \n   \n\n\n\n    \n\n\n\n\n[vc_column_text] \n\n	\n	\n	Please enable JavaScriptplay-sharp-fill\n\n    \n    \n    LinkEmbedCopy and paste this HTML code into your webpage to embed.\n\n	\n		Speech | Ayatollah Mohsen Araki\n		24:24Panel Discussion | Sayyid Agha Ali Raza | Shaykh Jaffer Ladak | Shaykh Ali Qomi | Sayyid Shahryar Naqvi\n		14:09Video Clips Presentation\n		10:29Raffle Draw | Sayyid Sadeqi & Shaykh Rezaei\n		13:26Community Kids Surud\n		06:43Spoken Word Poetry | Br. Husayn (United States)\n		03:29Spoken Word Poetry | Sr. Zainab (United States)\n		03:18Spoken Word Poetry | Sr. Fatima (United States)\n		06:03Spoken Word Poetry | Br. Ali Murtaza (Nigeria)\n		03:40Spoken Word Poetry | Br. Sayyid Aqil (Indonesia)\n		16:48Dua Tawassul | Shaykh Mastura (Philippines)\n		05:37Quran Recitation | Br. Ruhullah (Pakistan)\n		07:23Introduction | Sayyid Shahryar Naqvi (United States)\n	\n[/vc_column_text][/vc_column][vc_column width=”1/2″ icons_position=”right”][vc_column_text] \nSalam Alaykum\, thank you all for attending the program on the 26th of December 2024 and showing your utmost respect\, regard\, reverence\, and gratitude for the Shuhada of Islam\, especially for Shaheed Qasem Soleimani\, Shaheed Abu-Mahdi Al-Mohandes\, Shaheed Sayyid Hasan Nasrallah and the recent martyrs of Palestine & Lebanon. \nThe event took place at the Qods Auditorium\, Madrasah Imam Khomeini (R) in the holy city of Qom. It was attended by 1000+ participants comprised of the English speaking students and scholars of Qom from different countries along with their families and friends. It was truly a multicultural and diverse gathering of the admirers of the martyrs of Islam from Nigeria\, Philippines\, Indonesia\, Afghanistan\, Iraq\, US\, Canada\, UK\, Australia\, Ireland\, Pakistan\, New Zealand\, Dubai\, India\, Lebanon\, Sweden\, Tanzania\, Bangladesh\, others\, and of course the Islamic Republic of Iran. Many teachers of the Islamic Seminary of Qom also blessed the gathering with their presence. In addition\, a group of International students from the University of Tehran also attended the program. \nMen\, women\, youth\, kids and a number of senior scholars attended this event. Sayyid Shahryar from the US emceed the event which started off with a mesmerizing recitation of the Holy Quran by Br. Ruhullah from Pakistan followed up with a captivating recitation of Dua Tawassul by Shaykh Mastura from the Philippines. \nBr. Sayyid Aqil from Indonesia\, Br. Ali Murtaza from Nigeria\, Sr. Fatima from the US\, Sr. Zainab from the US\, and Br. Husayn from the US presented outstanding\, refreshing and revolutionary spoken word poetry. \nThe Panel Discussion was hosted by Br. M. Ali Araki from the UK with four panelists – Sayyid Agha Ali Raza\, Shaykh Jaffer Ladak\, Shaykh Ali Qomi\, and Sayyid Shahryar Naqvi who answered questions pertaining to recent developments in the region. \nAyatollah Mohsen Araki delivered the keynote speech in Farsi in which he outlined the responsibilities of the believers and pointed out the expectations from the scholars and students of the Islamic Seminary. \n14 families received Raffle Draw gift pictures from Sayyid Sadeqi (Principal of AMIS) and Shaykh Rezaei (Head of the cultural activities of the Islamic Seminary). \nAlmost all kids wore headbands in the Community Kids Surūd recital and performed the ‘NASLE AARMANI 2’ Surūd followed up with all-time-favorite ‘Salam Farmande’. Hundreds of live audience applauded their performance with Salawaat on Muhammad wa Ale Muhammad (s). Their performance left many in tears of joy and the hall resonated with the slogans of ‘Labbayka Ya Mahdi’ and ‘Labbayka Ya Khamenei’. \nThe kids and youth received goodie bags and gifts upon entering the venue. Ladies also received Mothers’ Day Gifts. \nMultimedia video clips of Imam Sayyid Ali Khamenei\, Shaheed Qasem Soleimani\, and Shaheed Sayyid Hasan Nasrallah were played on the projector in subsequent intervals throughout the event. A beautiful nasheed titled “We Are The Warriors of Haydar” played in the entrance hallway. All videos were subtitled in English. \nThank you for supporting the initiative to raise funds for the oppressed people of Lebanon & Palestine by purchasing the pictures and/or the hand-crafted frames. \nAttendees were served with Takeaway Dinner Tabarruk. Tea and snacks were made available at the entrance throughout the event. \nOur volunteer families and many attendees stayed behind for cleaning and wrap up. May Allah bless them all. \nPlease remember our team of volunteers in your duaas and pray that we be able to strengthen the narrative of Resistance. \n~ Students of Qom (SoQ) \n🌐 www.studentsofqom.org\n📱 telegram.me/studentsofqom\n📱 https://eitaa.com/studentsofqom\n📱 https://chat.whatsapp.com/DMICLq3eX9iKhSSh8t8JvA \n_\nStudents of Qom (SoQ) is a non-profit\, non-governmental association of Islamic Seminary English speaking students in the Holy City of Qom\, with the aim to promote\, encourage\, facilitate\, and carry out the propagation of pure Islam’s message to all corners of the world\, especially to the English speaking communities.
URL:https://studentsofqom.org/event/26dec2024/
LOCATION:Qods Auditorium\, Madrasah Imam Khomeini (R)\, Maidan-e-Jihad\, Qom\, Iran\, Islamic Republic of
CATEGORIES:Conferences,Thursday Night Program
ORGANIZER;CN="Students of Qom (SoQ)":MAILTO:info@studentsofqom.org
END:VEVENT
END:VCALENDAR