BEGIN:VCALENDAR
VERSION:2.0
PRODID:-//Students of QOM - ECPv6.15.18//NONSGML v1.0//EN
CALSCALE:GREGORIAN
METHOD:PUBLISH
X-WR-CALNAME:Students of QOM
X-ORIGINAL-URL:https://studentsofqom.org
X-WR-CALDESC:Events for Students of QOM
REFRESH-INTERVAL;VALUE=DURATION:PT1H
X-Robots-Tag:noindex
X-PUBLISHED-TTL:PT1H
BEGIN:VTIMEZONE
TZID:UTC
BEGIN:STANDARD
TZOFFSETFROM:+0000
TZOFFSETTO:+0000
TZNAME:UTC
DTSTART:20230101T000000
END:STANDARD
END:VTIMEZONE
BEGIN:VEVENT
DTSTART;TZID=UTC:20241107T193000
DTEND;TZID=UTC:20241107T213000
DTSTAMP:20260423T235156
CREATED:20241112T070055Z
LAST-MODIFIED:20241112T070244Z
UID:8246-1731007800-1731015000@studentsofqom.org
SUMMARY:Wiladah Of Sayyida Zaynab (A)
DESCRIPTION:Please enable JavaScriptplay-sharp-fill\n\n    \n    \n    LinkEmbedCopy and paste this HTML code into your webpage to embed.\n\n	\n		05:32Introduction | Sayyid Shahryar Naqvi\n		02:18Qur'an Recitation | Br. Husayn Zaidi\n		08:08Ziyarat Sayyida Zaynab (A) | Ali Hamadi\n		04:50Trump Or Biden The Inevitable Downfall Of America & Shaheed Nasrallah's Legacy | Imam Khamenei\n		47:55Hezbollah As A Social Movement | Shaykh Kazim Bhojani\n		22:15Kids Program
URL:https://studentsofqom.org/event/7nov2024/
LOCATION:SOQ Cultural Center\, Qom\, Iran\, Islamic Republic of
CATEGORIES:Thursday Night Program
ORGANIZER;CN="Students of Qom (SoQ)":MAILTO:info@studentsofqom.org
END:VEVENT
BEGIN:VEVENT
DTSTART;TZID=UTC:20241114T193000
DTEND;TZID=UTC:20241114T213000
DTSTAMP:20260423T235156
CREATED:20241119T082327Z
LAST-MODIFIED:20251215T161449Z
UID:8254-1731612600-1731619800@studentsofqom.org
SUMMARY:Shahadah Of Sayyida Fatima Zahra (A)
DESCRIPTION:Please enable JavaScriptplay-sharp-fill\n\n    \n    \n    LinkEmbedCopy and paste this HTML code into your webpage to embed.\n\n	\n		02:23Introduction | Br. Husayn Zaidi\n		05:04Qur'an Recitation | Br. Ammar\n		32:56Dua Kumayl | Br. Sayyid Zaigham Kazmi\n		01:58America Is An Active Participant In The Genocide | Imam Khamenei\n		34:20The Islamic Role Model For Women | Sayyid Shahriyar Naqvi
URL:https://studentsofqom.org/event/14nov2024/
LOCATION:SOQ Cultural Center\, Qom\, Iran\, Islamic Republic of
CATEGORIES:Thursday Night Program
ORGANIZER;CN="Students of Qom (SoQ)":MAILTO:info@studentsofqom.org
END:VEVENT
BEGIN:VEVENT
DTSTART;TZID=UTC:20241121T193000
DTEND;TZID=UTC:20241121T213000
DTSTAMP:20260423T235156
CREATED:20241121T222034Z
LAST-MODIFIED:20241126T223023Z
UID:8266-1732217400-1732224600@studentsofqom.org
SUMMARY:Shahadah Of Sayyida Fatima Zahra (A)
DESCRIPTION:Please enable JavaScriptplay-sharp-fill\n\n    \n    \n    LinkEmbedCopy and paste this HTML code into your webpage to embed.\n\n	\n		01:00:39Jihad\, Sabr And Wilayah\n		02:28 Glimpses Into The Sermon Of Fadakiyah | Sayyid Agha Ali Raza\n		21:30Kids Program\n		07:41Dua 14 Of Sahifa Sajjadiya | Sayyid Amir Behbahani\n		07:10Quran Recitation | Br. Muhammad Husayn\n		05:50Introduction | Sayyid Shahryar Naqvi
URL:https://studentsofqom.org/event/21nov2024/
LOCATION:SOQ Cultural Center\, Qom\, Iran\, Islamic Republic of
CATEGORIES:Thursday Night Program
ORGANIZER;CN="Students of Qom (SoQ)":MAILTO:info@studentsofqom.org
END:VEVENT
BEGIN:VEVENT
DTSTART;TZID=UTC:20241128T193000
DTEND;TZID=UTC:20241128T213000
DTSTAMP:20260423T235156
CREATED:20241204T083732Z
LAST-MODIFIED:20241204T083839Z
UID:8274-1732822200-1732829400@studentsofqom.org
SUMMARY:Shahadah Of Sayyida Fatima Zahra (A)
DESCRIPTION:Please enable JavaScriptplay-sharp-fill\n\n    \n    \n    LinkEmbedCopy and paste this HTML code into your webpage to embed.\n\n	\n		01:13:26From Normalization To Annihilation | Shaykh Ali Qomi\n		04:02Shaheed Nasrallah: The Great\, Tireless\, & Eloquent Mujahid | Imam Khamenei\n		34:16Dua Kumayl | Shaykh Ali Husayn Mastura\n		01:59Quran Recitation | Br. Abbas Zaidi\n		05:40Introduction | Sayyid Shahryar Naqvi
URL:https://studentsofqom.org/event/28nov2024/
LOCATION:SOQ Cultural Center\, Qom\, Iran\, Islamic Republic of
CATEGORIES:Thursday Night Program
ORGANIZER;CN="Students of Qom (SoQ)":MAILTO:info@studentsofqom.org
END:VEVENT
END:VCALENDAR