BEGIN:VCALENDAR
VERSION:2.0
PRODID:-//Students of QOM - ECPv6.15.18//NONSGML v1.0//EN
CALSCALE:GREGORIAN
METHOD:PUBLISH
X-WR-CALNAME:Students of QOM
X-ORIGINAL-URL:https://studentsofqom.org
X-WR-CALDESC:Events for Students of QOM
REFRESH-INTERVAL;VALUE=DURATION:PT1H
X-Robots-Tag:noindex
X-PUBLISHED-TTL:PT1H
BEGIN:VTIMEZONE
TZID:UTC
BEGIN:STANDARD
TZOFFSETFROM:+0000
TZOFFSETTO:+0000
TZNAME:UTC
DTSTART:20230101T000000
END:STANDARD
END:VTIMEZONE
BEGIN:VEVENT
DTSTART;TZID=UTC:20241003T200000
DTEND;TZID=UTC:20241003T220000
DTSTAMP:20260424T031113
CREATED:20241008T093252Z
LAST-MODIFIED:20251228T154103Z
UID:8188-1727985600-1727992800@studentsofqom.org
SUMMARY:THE SHAHADAH OF SAYYID HASAN NASRALLAH (R) & HIS COMPANIONS\, OPERATION TRUE PROMISE 2\, The Recent Developments in West Asia
DESCRIPTION:Please enable JavaScriptplay-sharp-fill\n\n    \n    \n    LinkEmbedCopy and paste this HTML code into your webpage to embed.\n\n	\n		05:24Introduction | Sayyid Shahryar Naqvi\n		Qur'an Recitation | Br. Hafiz Ridwanullah\n		15:58Dua For People Of The Frontiers\n		05:33Poetry | Br. Husayn Zaidi\n		07:11Poetry | Br. Ali Murtadha\n		03:43Since Karbala\, Our Stance Hasn't Changed | Sayyid Hasan Nasrallah\n		01:33:34QnA (Interactive Session)
URL:https://studentsofqom.org/event/3oct2024/
LOCATION:SOQ Cultural Center\, Qom\, Iran\, Islamic Republic of
CATEGORIES:Thursday Night Program
ORGANIZER;CN="Students of Qom (SoQ)":MAILTO:info@studentsofqom.org
END:VEVENT
BEGIN:VEVENT
DTSTART;TZID=UTC:20241010T200000
DTEND;TZID=UTC:20241010T220000
DTSTAMP:20260424T031113
CREATED:20241016T210808Z
LAST-MODIFIED:20260207T165557Z
UID:8198-1728590400-1728597600@studentsofqom.org
SUMMARY:Weekly Program
DESCRIPTION:Please enable JavaScriptplay-sharp-fill\n\n    \n    \n    LinkEmbedCopy and paste this HTML code into your webpage to embed.\n\n	\n		09:17Introduction | Sayyid Shahryar Naqvi\n		02:23Qur'an Recitation | Br. Ali Mahdi\n		34:34Dua Kumayl | Br. Sharafat\n		02:04Poetry | Sr. Zainab Ali\n		02:41The Victory Of Hezbollah & The Resistance Front\n		50:13A Recap Of Imam Khamenei's Friday Sermon | Ustad Ismail Fakhrian
URL:https://studentsofqom.org/event/10oct2024/
LOCATION:SOQ Cultural Center\, Qom\, Iran\, Islamic Republic of
CATEGORIES:Thursday Night Program
ORGANIZER;CN="Students of Qom (SoQ)":MAILTO:info@studentsofqom.org
END:VEVENT
BEGIN:VEVENT
DTSTART;TZID=UTC:20241017T200000
DTEND;TZID=UTC:20241017T220000
DTSTAMP:20260424T031113
CREATED:20241022T072231Z
LAST-MODIFIED:20260202T154009Z
UID:8206-1729195200-1729202400@studentsofqom.org
SUMMARY:Wafat Of Sayyida Masumah (A)
DESCRIPTION:Please enable JavaScriptplay-sharp-fill\n\n    \n    \n    LinkEmbedCopy and paste this HTML code into your webpage to embed.\n\n	\n		09:06Introduction | Sayyid Shahryar Naqvi\n		01:12Qur'an Recitation | Br. Abbas Zaidi\n		28:50Dua Kumayl | Br. Ammar\n		03:45Poetry | Br. Ali Murtaza\n		02:43Islamic Iran Will Neither Delay Nor Rush | Video Clip\n		50:05Hezbollah Is Strong & Alive | Sayyid Muhammad Hashemi
URL:https://studentsofqom.org/event/17oct2024/
LOCATION:SOQ Cultural Center\, Qom\, Iran\, Islamic Republic of
CATEGORIES:Thursday Night Program
ORGANIZER;CN="Students of Qom (SoQ)":MAILTO:info@studentsofqom.org
END:VEVENT
BEGIN:VEVENT
DTSTART;TZID=UTC:20241024T193000
DTEND;TZID=UTC:20241024T213000
DTSTAMP:20260424T031114
CREATED:20241029T071114Z
LAST-MODIFIED:20241029T071329Z
UID:8215-1729798200-1729805400@studentsofqom.org
SUMMARY:Weekly Program
DESCRIPTION:Please enable JavaScriptplay-sharp-fill\n\n    \n    \n    LinkEmbedCopy and paste this HTML code into your webpage to embed.\n\n	\n		05:33Introduction | Sayyid Shahryar Naqvi\n		01:06Qur'an Recitation | Br. Shayan\n		29:45Dua Kumayl | Sayyid Amir Behbahani\n		02:40Paying Allegiance To The Yazid of Today | Sayyid Hashim Al-Haidari\n		56:20Countering The Propaganda Against Islam | Shaykh Rohullah Rohani
URL:https://studentsofqom.org/event/24oct2024/
LOCATION:SOQ Cultural Center\, Qom\, Iran\, Islamic Republic of
CATEGORIES:Thursday Night Program
ORGANIZER;CN="Students of Qom (SoQ)":MAILTO:info@studentsofqom.org
END:VEVENT
END:VCALENDAR