BEGIN:VCALENDAR
VERSION:2.0
PRODID:-//Students of QOM - ECPv6.15.18//NONSGML v1.0//EN
CALSCALE:GREGORIAN
METHOD:PUBLISH
X-ORIGINAL-URL:https://studentsofqom.org
X-WR-CALDESC:Events for Students of QOM
REFRESH-INTERVAL;VALUE=DURATION:PT1H
X-Robots-Tag:noindex
X-PUBLISHED-TTL:PT1H
BEGIN:VTIMEZONE
TZID:UTC
BEGIN:STANDARD
TZOFFSETFROM:+0000
TZOFFSETTO:+0000
TZNAME:UTC
DTSTART:20200101T000000
END:STANDARD
END:VTIMEZONE
BEGIN:VEVENT
DTSTART;TZID=UTC:20210325T190000
DTEND;TZID=UTC:20210325T210000
DTSTAMP:20260421T130609
CREATED:20210405T112417Z
LAST-MODIFIED:20260207T154826Z
UID:4029-1616698800-1616706000@studentsofqom.org
SUMMARY:Wiladah of Imam Mahdi (ATFS)
DESCRIPTION:Please enable JavaScriptplay-sharp-fill\n\n    \n    \n    LinkEmbedCopy and paste this HTML code into your webpage to embed.\n\n	\n		03:03(25March21) Introduction | Sayyid Shahryar Naqvi | Birth Anniversary Of Imam Mahdi (ATFS) | English\n		04:14(25March21) Quran Recitation | Br. Muhammad Baqir | Birth Anniversary Of Imam Mahdi (ATFS) | Arabic\n		35:26(25March21) Dua Kumayl | Sayyid Amir Behbahani | Birth Anniversary Of Imam Mahdi (ATFS) | Arabic\n		06:33(25March21) Poetry | Br. Husayn Zaidi | Birth Anniversary Of Imam Mahdi (ATFS) | English\n		08:28(25March21) Maddahi | Sayyid Haydar Hasanayn | Birth Anniversary Of Imam Mahdi (ATFS) | English\n		31:06(25March21) Speech | Shaykh Mohammad Ali Shahabadi | Birth Anniversary Of Imam Mahdi (ATFS) | Farsi\n		16:39(25March21) Raffle Gift Draw | Shaykh Muhammad (Trinidad) | Birth Anniversary Of Imam Mahdi (ATFS) | English\n		12:07(25March21) Multi Media Video Clips | Birth Anniversary Of Imam Mahdi (ATFS) | English
URL:https://studentsofqom.org/event/25mar21/
LOCATION:The Holy Shrine of Sayyida Fatimah Ma’sumah\, Qom\, Iran\, Islamic Republic of
CATEGORIES:Conferences,Thursday Night Program
END:VEVENT
END:VCALENDAR