BEGIN:VCALENDAR
VERSION:2.0
PRODID:-//Students of QOM - ECPv6.15.18//NONSGML v1.0//EN
CALSCALE:GREGORIAN
METHOD:PUBLISH
X-ORIGINAL-URL:https://studentsofqom.org
X-WR-CALDESC:Events for Students of QOM
REFRESH-INTERVAL;VALUE=DURATION:PT1H
X-Robots-Tag:noindex
X-PUBLISHED-TTL:PT1H
BEGIN:VTIMEZONE
TZID:UTC
BEGIN:STANDARD
TZOFFSETFROM:+0000
TZOFFSETTO:+0000
TZNAME:UTC
DTSTART:20200101T000000
END:STANDARD
END:VTIMEZONE
BEGIN:VTIMEZONE
TZID:UTC
BEGIN:STANDARD
TZOFFSETFROM:+0000
TZOFFSETTO:+0000
TZNAME:UTC
DTSTART:20200101T000000
END:STANDARD
END:VTIMEZONE
BEGIN:VEVENT
DTSTART;TZID=UTC:20210211T210000
DTEND;TZID=UTC:20210211T230000
DTSTAMP:20260422T054355
CREATED:20210301T151326Z
LAST-MODIFIED:20260205T173339Z
UID:3777-1613077200-1613084400@studentsofqom.org
SUMMARY:The 42nd Anniversary of the Islamic Revolution
DESCRIPTION:A family event organized by the SOQ regarding the 42nd anniversary of the Islamic Revolution. The event included poetry\, multiple video presentations\, spoken words\, a Qur’an recitation\, a Ziyarat Ashura recitation\, short speeches by various Islamic Seminary students\, and a keynote speech by Shaykh Mahdi Taeb. \n  \n\n	\n	\n	Please enable JavaScriptplay-sharp-fill\n\n    \n    \n    LinkEmbedCopy and paste this HTML code into your webpage to embed.\n\n	\n		01:41Introduction Sayyid Shahryar Naqvi 42nd Anniversary of the IR\n		04:38Quran Recitation Sayyid Haydar Hasanayn 42nd Anniversary of the IR\n		51:10Dua Kumayl Sayyid Husayn Mojtahedi 42nd Anniversary of the IR\n		05:58Poetry Sayyid Husayn Zaidi 42nd Anniversary of the IR \n		04:12Poetry Sayyid Husayn Mojtahedi 42nd Anniversary of the IR\n		41:49Speech Shaykh Mahdi Taeb 42nd Anniversary of the IR
URL:https://studentsofqom.org/event/11feb2021/
LOCATION:Husaynia AbulFazl\, Tawheed\, Qom\, Iran\, Islamic Republic of
CATEGORIES:Conferences,Thursday Night Program
ORGANIZER;CN="Students of Qom (SoQ)":MAILTO:info@studentsofqom.org
END:VEVENT
BEGIN:VEVENT
DTSTART;TZID=UTC:20210218T190000
DTEND;TZID=UTC:20210218T210000
DTSTAMP:20260422T054355
CREATED:20210327T185818Z
LAST-MODIFIED:20220201T223622Z
UID:3813-1613674800-1613682000@studentsofqom.org
SUMMARY:Weekly Program
DESCRIPTION:[vc_row][vc_column icons_position=”left”][vc_column_text]\n	\n	\n	Please enable JavaScriptplay-sharp-fill\n\n    \n    \n    LinkEmbedCopy and paste this HTML code into your webpage to embed.\n\n	\n		00:58Introduction | Sayyid Shahryar Naqvi\n		09:27Quran Recitation | Sayyid Ali Rizvi\n		38:04Dua Kumayl | Sayyid Husayn Mojtahedi\n		08:05Poetry | Sayyid Husayn Mojtahedi\n		35:53Speech | Sayyid Amir Behbahani\n	\n[/vc_column_text][/vc_column][/vc_row]
URL:https://studentsofqom.org/event/18feb21/
LOCATION:Kalhori\, Qom\, Iran\, Islamic Republic of
CATEGORIES:Thursday Night Program
END:VEVENT
BEGIN:VEVENT
DTSTART;TZID=UTC:20210225T190000
DTEND;TZID=UTC:20210225T210000
DTSTAMP:20260422T054355
CREATED:20210327T194625Z
LAST-MODIFIED:20260207T145428Z
UID:3819-1614279600-1614286800@studentsofqom.org
SUMMARY:Wiladah of Imam Ali (A)
DESCRIPTION:[vc_row][vc_column icons_position=”left”][vc_column_text]\n	\n	\n	Please enable JavaScriptplay-sharp-fill\n\n    \n    \n    LinkEmbedCopy and paste this HTML code into your webpage to embed.\n\n	\n		01:52Introduction | Sayyid Shahryar Naqvi\n		04:47Quran Recitation | Br. Muhammad Baqir\n		34:01Dua Kumayl | Sayyid Haydar Hasanayn\n		04:15Poetry | Br. Husayn Zaidi\n		13:59Puppet Show | Shaykh Muzaffer Hyder\n		35:22Speech | Shaykh Farukh Sekaleshfar\n		01:55Dua Faraj Imam Zaman (A) | Sayyid Haydar Hasanayn\n	\n[/vc_column_text][/vc_column][/vc_row]
URL:https://studentsofqom.org/event/25feb21/
LOCATION:Jamhoori Islami BLVD\, Qom\, Iran\, Islamic Republic of
CATEGORIES:Conferences,Thursday Night Program
END:VEVENT
END:VCALENDAR