BEGIN:VCALENDAR
VERSION:2.0
PRODID:-//Students of QOM - ECPv6.15.18//NONSGML v1.0//EN
CALSCALE:GREGORIAN
METHOD:PUBLISH
X-WR-CALNAME:Students of QOM
X-ORIGINAL-URL:https://studentsofqom.org
X-WR-CALDESC:Events for Students of QOM
REFRESH-INTERVAL;VALUE=DURATION:PT1H
X-Robots-Tag:noindex
X-PUBLISHED-TTL:PT1H
BEGIN:VTIMEZONE
TZID:UTC
BEGIN:STANDARD
TZOFFSETFROM:+0000
TZOFFSETTO:+0000
TZNAME:UTC
DTSTART:20210101T000000
END:STANDARD
END:VTIMEZONE
BEGIN:VEVENT
DTSTART;TZID=UTC:20220203T190000
DTEND;TZID=UTC:20220203T210000
DTSTAMP:20260425T230112
CREATED:20220209T003051Z
LAST-MODIFIED:20220411T135425Z
UID:5701-1643914800-1643922000@studentsofqom.org
SUMMARY:Wiladah of Imam Muhammad Baqir (A)
DESCRIPTION:Please enable JavaScriptplay-sharp-fill\n\n    \n    \n    LinkEmbedCopy and paste this HTML code into your webpage to embed.\n\n	\n		08:43Introduction | Sayyid Shahryar Naqvi\n		05:06Quran Recitation | Shaykh Muzaffer Hyder\n		29:32Dua Kumayl | Thursday Night Program In Qom\n		59:12Speech in English | Sayyid Haydar Hasanayn
URL:https://studentsofqom.org/event/3feb2022/
LOCATION:SOQ Cultural Center\, Qom\, Iran\, Islamic Republic of
CATEGORIES:Thursday Night Program
ORGANIZER;CN="Students of Qom (SoQ)":MAILTO:info@studentsofqom.org
END:VEVENT
BEGIN:VEVENT
DTSTART;TZID=UTC:20220211T213000
DTEND;TZID=UTC:20220212T020000
DTSTAMP:20260425T230112
CREATED:20220404T121955Z
LAST-MODIFIED:20260205T171423Z
UID:5785-1644615000-1644631200@studentsofqom.org
SUMMARY:THE 43RD ANNIVERSARY OF THE ISLAMIC REVOLUTION
DESCRIPTION:Muslim & non-Muslim scholars & activists from over 10 countries highlighted the significance of the Islamic Revolution in Iran and how it impacts the Muslims living around the world. How has this divine Islamic Revolution impacted the oppressed masses in different parts of the world? What is the Second Phase of the Islamic Revolution and what is the projected future of the Muslim Ummah and the oppressed masses? \n\n	\n	\n	Please enable JavaScriptplay-sharp-fill\n\n    \n    \n    LinkEmbedCopy and paste this HTML code into your webpage to embed.\n\n43rd Anniversary of the Islamic Revolution | LIVE TRANSMISSION
URL:https://studentsofqom.org/event/11feb2022/
LOCATION:Islamic Pulse Studio\, Qom\, Iran\, Islamic Republic of
CATEGORIES:Conferences
ATTACH;FMTTYPE=image/jpeg:https://studentsofqom.org/wp-content/uploads/2022/06/the-43rd-anniversary-of-the-isla.jpg
ORGANIZER;CN="Students of Qom (SoQ)":MAILTO:info@studentsofqom.org
END:VEVENT
END:VCALENDAR