BEGIN:VCALENDAR
VERSION:2.0
PRODID:-//Students of QOM - ECPv6.15.18//NONSGML v1.0//EN
CALSCALE:GREGORIAN
METHOD:PUBLISH
X-ORIGINAL-URL:https://studentsofqom.org
X-WR-CALDESC:Events for Students of QOM
REFRESH-INTERVAL;VALUE=DURATION:PT1H
X-Robots-Tag:noindex
X-PUBLISHED-TTL:PT1H
BEGIN:VTIMEZONE
TZID:UTC
BEGIN:STANDARD
TZOFFSETFROM:+0000
TZOFFSETTO:+0000
TZNAME:UTC
DTSTART:20240101T000000
END:STANDARD
END:VTIMEZONE
BEGIN:VEVENT
DTSTART;TZID=UTC:20250116T193000
DTEND;TZID=UTC:20250116T213000
DTSTAMP:20260424T031334
CREATED:20250122T095531Z
LAST-MODIFIED:20250122T095733Z
UID:8440-1737055800-1737063000@studentsofqom.org
SUMMARY:Wiladah of Ameerul Momineen Imam Ali (A)
DESCRIPTION:Please enable JavaScriptplay-sharp-fill\n\n    \n    \n    LinkEmbedCopy and paste this HTML code into your webpage to embed.\n\n	\n		44:54Islamic Social Sciences VS Western Social Sciences | Sayyid Muhammad Hashemi\n		02:28israel Is Defeated | Imam Khamenei\n		34:11Dua Kumayl | Br. Sharfat\n		02:33Quran Recitation | Br. Mohammad Assadi\n		08:02Introduction | Sayyid Shahryar Naqvi
URL:https://studentsofqom.org/event/16jan2025/
LOCATION:SOQ Cultural Center\, Qom\, Iran\, Islamic Republic of
CATEGORIES:Thursday Night Program
ORGANIZER;CN="Students of Qom (SoQ)":MAILTO:info@studentsofqom.org
END:VEVENT
END:VCALENDAR