BEGIN:VCALENDAR
VERSION:2.0
PRODID:-//Students of QOM - ECPv6.15.18//NONSGML v1.0//EN
CALSCALE:GREGORIAN
METHOD:PUBLISH
X-WR-CALNAME:Students of QOM
X-ORIGINAL-URL:https://studentsofqom.org
X-WR-CALDESC:Events for Students of QOM
REFRESH-INTERVAL;VALUE=DURATION:PT1H
X-Robots-Tag:noindex
X-PUBLISHED-TTL:PT1H
BEGIN:VTIMEZONE
TZID:UTC
BEGIN:STANDARD
TZOFFSETFROM:+0000
TZOFFSETTO:+0000
TZNAME:UTC
DTSTART:20230101T000000
END:STANDARD
END:VTIMEZONE
BEGIN:VEVENT
DTSTART;TZID=UTC:20241219T193000
DTEND;TZID=UTC:20241219T213000
DTSTAMP:20260423T215758
CREATED:20241222T193028Z
LAST-MODIFIED:20241222T193202Z
UID:8311-1734636600-1734643800@studentsofqom.org
SUMMARY:Wiladah Of Sayyida Fatima Zahra (A)
DESCRIPTION:Please enable JavaScriptplay-sharp-fill\n\n    \n    \n    LinkEmbedCopy and paste this HTML code into your webpage to embed.\n\n	\n		01:00:35The Role Of Istiqlaliyyah In the Ummah And In The Resistance | Shaykh Jaffer Ladak\n		04:01Allah's Army For Our Assistance | Imam Khamenei\n		30:21Dua Kumayl | Br. Ali Husayn Mastura\n		02:40Quran Recitation | Br. Shayan\n		04:25Introduction | Sayyid Shahryar Naqvi
URL:https://studentsofqom.org/event/19dec2024/
LOCATION:SOQ Cultural Center\, Qom\, Iran\, Islamic Republic of
CATEGORIES:Thursday Night Program
ORGANIZER;CN="Students of Qom (SoQ)":MAILTO:info@studentsofqom.org
END:VEVENT
END:VCALENDAR