BEGIN:VCALENDAR
VERSION:2.0
PRODID:-//Students of QOM - ECPv6.15.18//NONSGML v1.0//EN
CALSCALE:GREGORIAN
METHOD:PUBLISH
X-ORIGINAL-URL:https://studentsofqom.org
X-WR-CALDESC:Events for Students of QOM
REFRESH-INTERVAL;VALUE=DURATION:PT1H
X-Robots-Tag:noindex
X-PUBLISHED-TTL:PT1H
BEGIN:VTIMEZONE
TZID:UTC
BEGIN:STANDARD
TZOFFSETFROM:+0000
TZOFFSETTO:+0000
TZNAME:UTC
DTSTART:20230101T000000
END:STANDARD
END:VTIMEZONE
BEGIN:VEVENT
DTSTART;TZID=UTC:20241121T193000
DTEND;TZID=UTC:20241121T213000
DTSTAMP:20260423T234636
CREATED:20241121T222034Z
LAST-MODIFIED:20241126T223023Z
UID:8266-1732217400-1732224600@studentsofqom.org
SUMMARY:Shahadah Of Sayyida Fatima Zahra (A)
DESCRIPTION:Please enable JavaScriptplay-sharp-fill\n\n    \n    \n    LinkEmbedCopy and paste this HTML code into your webpage to embed.\n\n	\n		01:00:39Jihad\, Sabr And Wilayah\n		02:28 Glimpses Into The Sermon Of Fadakiyah | Sayyid Agha Ali Raza\n		21:30Kids Program\n		07:41Dua 14 Of Sahifa Sajjadiya | Sayyid Amir Behbahani\n		07:10Quran Recitation | Br. Muhammad Husayn\n		05:50Introduction | Sayyid Shahryar Naqvi
URL:https://studentsofqom.org/event/21nov2024/
LOCATION:SOQ Cultural Center\, Qom\, Iran\, Islamic Republic of
CATEGORIES:Thursday Night Program
ORGANIZER;CN="Students of Qom (SoQ)":MAILTO:info@studentsofqom.org
END:VEVENT
END:VCALENDAR